BEGIN:VCALENDAR
VERSION:2.0
PRODID:-//CRESS Paraíba - ECPv6.0.5//NONSGML v1.0//EN
CALSCALE:GREGORIAN
METHOD:PUBLISH
X-ORIGINAL-URL:https://cresspb.org.br
X-WR-CALDESC:Events for CRESS Paraíba
REFRESH-INTERVAL;VALUE=DURATION:PT1H
X-Robots-Tag:noindex
X-PUBLISHED-TTL:PT1H
BEGIN:VTIMEZONE
TZID:America/Recife
BEGIN:STANDARD
TZOFFSETFROM:-0300
TZOFFSETTO:-0300
TZNAME:-03
DTSTART:20210101T000000
END:STANDARD
END:VTIMEZONE
BEGIN:VEVENT
DTSTART;TZID=America/Recife:20210401T140000
DTEND;TZID=America/Recife:20210401T140000
DTSTAMP:20260425T123455
CREATED:20210127T170812Z
LAST-MODIFIED:20210127T171839Z
UID:10607-1617285600-1617285600@cresspb.org.br
SUMMARY:Reunião para entrega de DIPs (01/04)
DESCRIPTION:📆 No dia 01 de abril\, às 14h\, será realizada mais uma reunião virtual de orientação profissional para posterior entrega do Documento de Identidade Profissional – DIP via Correios.⁠\n\n\n⁠\n\n\n🔴 As vagas serão limitadas para as primeiras 50 pessoas que confirmarem presença\, e as próximas datas serão divulgadas com brevidade para que todos(as) possam se organizar.⁠\n\n\n⁠\n\n\n💡 Saiba como participar:⁠\n\n\n– Confira o seu nome na Lista de DIPs.⁠\n\n\n– Confirme sua participação enviando um e-mail com nome completo\, número de registro\, contato telefônico e endereço atualizado para o endereço: cresspb@gmail.com com o assunto “Reunião do DIP 01/04”. ⁠\n\n\n⁠\n\n\nATENÇÃO: seu e-mail será respondido confirmando sua participação e na véspera da reunião você receberá o link de acesso. A reunião será on-line pela plataforma Google Meet.⁠\n\n\n⁠\n\n\n➡️ Após a participação na reunião\, o(a) profissional estará apto(a) a receber o DIP.⁠\n\n\n⁠\n\n\n💳 O DIP será enviado para o endereço do(a) profissional pelos Correios\, por isso é muito importante a atualização dos dados cadastrais.⁠
URL:https://cresspb.org.br/evento/reuniao-para-entrega-de-dips-0104/
LOCATION:Paraíba
CATEGORIES:Eventos CRESS/PB
END:VEVENT
END:VCALENDAR