BEGIN:VCALENDAR
VERSION:2.0
PRODID:-//CRESS Paraíba - ECPv6.0.5//NONSGML v1.0//EN
CALSCALE:GREGORIAN
METHOD:PUBLISH
X-ORIGINAL-URL:https://cresspb.org.br
X-WR-CALDESC:Events for CRESS Paraíba
REFRESH-INTERVAL;VALUE=DURATION:PT1H
X-Robots-Tag:noindex
X-PUBLISHED-TTL:PT1H
BEGIN:VTIMEZONE
TZID:America/Recife
BEGIN:STANDARD
TZOFFSETFROM:-0300
TZOFFSETTO:-0300
TZNAME:-03
DTSTART:20210101T000000
END:STANDARD
END:VTIMEZONE
BEGIN:VEVENT
DTSTART;TZID=America/Recife:20211214T190000
DTEND;TZID=America/Recife:20220114T220000
DTSTAMP:20260424T220621
CREATED:20211202T190008Z
LAST-MODIFIED:20211207T160307Z
UID:11516-1639508400-1642197600@cresspb.org.br
SUMMARY:Seminário estadual - Serviço Social na Saúde
DESCRIPTION:No dia 14 de dezembro (terça-feira)\, o CRESS-PB\, em parceria com o Departamento de Serviço Social da UEPB\, por meio da Comissão de Orientação e Fiscalização e da Comissão de Seguridade Social\, irá realizar o “Seminário estadual – Serviço Social na Saúde: dilemas e perspectivas no enfrentamento à Covid-19″. \nConfira a programação: \nDia 14/12\, às 19h30\nTema: “Lutas Sociais na Saúde e Serviço Social”\nPalestrante: Maria Inês Bravo – pós-doutora em Serviço Social e Professora Associada da UERJ.\nMediadora: Alessandra Ximenes – professora Doutora do Departamento de Serviço Social da UEPB.\nParticipação: representantes do CRESS\, ABEPSS Regional Nordeste\, Fórum Paraibano em Defesa do SUS e Contra a Privatização\, Frente Nacional Contra a Privatização da Saúde e SINDSAÚDE. \n🎦 A transmissão acontecerá ao vivo no YouTube do CRESS Paraíba. Participe! \nTrata-se da última atividade aberta do Projeto de Extensão: Educação Permanente para os(as) Assistentes Sociais atuantes da área da saúde no contexto de Pandemia e pós Pandemia da COVID-19 na Paraíba.
URL:https://cresspb.org.br/evento/seminario-estadual-servico-social-na-saude/
LOCATION:Canal do CRESS no YouTube
END:VEVENT
END:VCALENDAR