BEGIN:VCALENDAR
VERSION:2.0
PRODID:-//CRESS Paraíba - ECPv6.0.5//NONSGML v1.0//EN
CALSCALE:GREGORIAN
METHOD:PUBLISH
X-WR-CALNAME:CRESS Paraíba
X-ORIGINAL-URL:https://cresspb.org.br
X-WR-CALDESC:Events for CRESS Paraíba
REFRESH-INTERVAL;VALUE=DURATION:PT1H
X-Robots-Tag:noindex
X-PUBLISHED-TTL:PT1H
BEGIN:VTIMEZONE
TZID:America/Recife
BEGIN:STANDARD
TZOFFSETFROM:-0300
TZOFFSETTO:-0300
TZNAME:-03
DTSTART:20230101T000000
END:STANDARD
END:VTIMEZONE
BEGIN:VEVENT
DTSTART;VALUE=DATE:20230323
DTEND;VALUE=DATE:20230324
DTSTAMP:20260423T200936
CREATED:20230224T133511Z
LAST-MODIFIED:20230224T134243Z
UID:11953-1679529600-1679615999@cresspb.org.br
SUMMARY:Encontro Estadual de Seguridade Social
DESCRIPTION:O Conselho Regional de Serviço Social 13ª Região – Paraíba abre as pré-inscrições do Encontro Estadual de Seguridade Social\, que acontecerá no próximo dia 23 de março. \nCom o lema “A seguridade social que defendemos”\, as atividades do Encontro serão presenciais no auditório 411 da Universidade Federal da Paraíba\, em João Pessoa. \nJá está confirmada a mesa redonda “O trabalho de assistentes sociais e a Seguridade Social na realidade brasileira e paraibana”\, além da apresentação do E-book sobre demandas judiciais e o lançamento do livro “Serviço Social\, Instrumentalidade e Movimentos Sociais”. \nTambém haverá plenárias temáticas sobre saúde\, educação\, Assistência Social\, Previdência Social\, políticas de habitação e direito à cidade. \nA programação do Encontro Estadual acontecerá a partir das 8h. \nAs vagas são limitadas e as pré-inscrições para profissionais e estudantes podem ser feitas nos links abaixo: \nPré-inscrições para profissionais. \nPré-inscrições para estudantes.
URL:https://cresspb.org.br/evento/encontro-estadual-de-seguridade-social/
LOCATION:Auditório 411 – CCHLA
ATTACH;FMTTYPE=image/jpeg:https://cresspb.org.br/2012/wp-content/uploads/2023/02/WhatsApp-Image-2023-02-17-at-11.09.34.jpeg
END:VEVENT
BEGIN:VEVENT
DTSTART;TZID=America/Recife:20240424T073000
DTEND;TZID=America/Recife:20240424T150000
DTSTAMP:20260423T200936
CREATED:20240418T145859Z
LAST-MODIFIED:20240418T145859Z
UID:13421-1713943800-1713970800@cresspb.org.br
SUMMARY:"Encontro Regional de Assistentes Sociais"- Picuí/PB
DESCRIPTION:📚 Olá assistentes sociais! Vocês sabiam que o CRESS realizará o “Encontro Regional de Assistentes Sociais”\, na cidade de Picuí/PB? \n📆O encontro vai ocorrer no dia 24/04/2024\, no auditório Municipal Djalma de Lima Vasconcelos – centro administrativo\, na Rua Antônio Firmino\, nº 348 – Monte Santo\, a partir das 7h30. \n🔎Para realizar sua inscrição basta preencher o formulário de inscrição no link que está disponível na bio do Instagram: https://forms.gle/oJD5LxLrPHjUmMp6A
URL:https://cresspb.org.br/evento/encontro-regional-de-assistentes-sociais-picui-pb/
LOCATION:Auditório Djalma de Lima Vasconcelos\, Picuí\, Paraíba\, Brasil
END:VEVENT
END:VCALENDAR