BEGIN:VCALENDAR
VERSION:2.0
PRODID:-//CRESS Paraíba - ECPv6.0.5//NONSGML v1.0//EN
CALSCALE:GREGORIAN
METHOD:PUBLISH
X-ORIGINAL-URL:https://cresspb.org.br
X-WR-CALDESC:Events for CRESS Paraíba
REFRESH-INTERVAL;VALUE=DURATION:PT1H
X-Robots-Tag:noindex
X-PUBLISHED-TTL:PT1H
BEGIN:VTIMEZONE
TZID:America/Recife
BEGIN:STANDARD
TZOFFSETFROM:-0300
TZOFFSETTO:-0300
TZNAME:-03
DTSTART:20210101T000000
END:STANDARD
END:VTIMEZONE
BEGIN:VEVENT
DTSTART;TZID=America/Recife:20210303T190000
DTEND;TZID=America/Recife:20210303T210000
DTSTAMP:20260425T123525
CREATED:20210226T151428Z
LAST-MODIFIED:20210226T151428Z
UID:10784-1614798000-1614805200@cresspb.org.br
SUMMARY:Web palestra: "Atribuições\, competências e requisições da(o) assistente social no contexto de pandemia"
DESCRIPTION:No próximo dia 03 de março (quarta-feira)\, às 19h\, o CRESS-PB\, em parceria com o Departamento de Serviço Social da UEPB\, irá realizar a live “Atribuições\, competências e requisições da(o) assistente social no contexto de pandemia”. \n\n \nA atividade irá lançar o Projeto de Extensão “Educação permanente para os(as) assistentes sociais atuantes na área da saúde no contexto da pandemia e pós-pandemia da Covid-19 na Paraíba”\, que tem a finalidade de realizar ações de Educação Permanente para os/as assistentes sociais que atuam na saúde na Paraíba\, no contexto de pandemia e pós-pandemia da Covid-19. \nMesa de abertura:\n– Ademir Rios: assistente social e presidente do CRESS/PB (gestão 2020-2023);\n– Alessandra Ximenes: Professora de Serviço Social na Universidade Estadual da Paraíba e Coordenadora do Projeto de Extensão. \nPalestrante:\n– Maurílio Matos: assistente social e professor de Serviço Social na Universidade do Estado do Rio de Janeiro. \nMediação:\n– Paloma Miranda: assistente social\, conselheira da Seccional de Campina Grande do CRESS/PB (gestão 2020-2023). \n🎦 A transmissão será feita ao vivo\, em nosso canal do YouTube.
URL:https://cresspb.org.br/evento/web-palestra-atribuicoes-competencias-e-requisicoes-dao-assistente-social-no-contexto-de-pandemia/
LOCATION:Canal do CRESS no YouTube
CATEGORIES:Eventos CRESS/PB
END:VEVENT
BEGIN:VEVENT
DTSTART;TZID=America/Recife:20210310T140000
DTEND;TZID=America/Recife:20210310T140000
DTSTAMP:20260425T123525
CREATED:20210127T170702Z
LAST-MODIFIED:20210127T171823Z
UID:10606-1615384800-1615384800@cresspb.org.br
SUMMARY:Reunião de entrega de DIPs (10/03)
DESCRIPTION:📆 No dia 10 de março\, às 14h\, será realizada mais uma reunião virtual de orientação profissional para posterior entrega do Documento de Identidade Profissional – DIP via Correios.⁠\n\n\n⁠\n\n\n🔴 As vagas serão limitadas para as primeiras 50 pessoas que confirmarem presença\, e as próximas datas serão divulgadas com brevidade para que todos(as) possam se organizar.⁠\n\n\n⁠\n\n\n💡 Saiba como participar:⁠\n\n\n– Confira o seu nome na Lista de DIPs.⁠\n\n\n– Confirme sua participação enviando um e-mail com nome completo\, número de registro\, contato telefônico e endereço atualizado para o endereço: cresspb@gmail.com com o assunto “Reunião do DIP 10/03”. ⁠\n\n\n⁠\n\n\nATENÇÃO: seu e-mail será respondido confirmando sua participação e na véspera da reunião você receberá o link de acesso. A reunião será on-line pela plataforma Google Meet.⁠\n\n\n⁠\n\n\n➡️ Após a participação na reunião\, o(a) profissional estará apto(a) a receber o DIP.⁠\n\n\n⁠\n\n\n💳 O DIP será enviado para o endereço do(a) profissional pelos Correios\, por isso é muito importante a atualização dos dados cadastrais.⁠
URL:https://cresspb.org.br/evento/reuniao-de-entrega-de-dips-1003/
LOCATION:Paraíba
CATEGORIES:Eventos CRESS/PB
END:VEVENT
BEGIN:VEVENT
DTSTART;TZID=America/Recife:20210310T190000
DTEND;TZID=America/Recife:20210310T190000
DTSTAMP:20260425T123525
CREATED:20210304T150850Z
LAST-MODIFIED:20210304T150955Z
UID:10822-1615402800-1615402800@cresspb.org.br
SUMMARY:Web palestra: "Demandas Judiciais aos/as assistentes sociais do SUAS: reflexões e encaminhamentos"
DESCRIPTION:No próximo dia 10 de março (quarta-feira)\, às 19h\, o CRESS-PB\, por meio da Comissão de Fiscalização/COFI e da Comissão de Seguridade Social\, irá realizar a live “Demandas Judiciais aos/as assistentes sociais do SUAS: reflexões e encaminhamentos”. \n \n  \n  \nO debate ocorrerá em resposta a uma demanda latente e contínua da categoria que atua no âmbito do SUAS e diz respeito à solicitação por parte do Poder Judiciário e do Ministério Público de emissão de pareceres sociais\, relatórios e pericias sociais. Essa solicitação\, com algumas exceções\, vem com prazo de entrega\, sem pagamento de honorários e sem a oferta de condições de trabalho\, como viaturas para deslocamento para as visitas domiciliares e/ou institucionais. \nA atividade visa reforçar o compromisso do conjunto CFESS-CRESS na luta e defesa da profissão\, quanto às suas atribuições e competências\, na defesa de concurso público e do SUAS. \nMediação:\n– Raquel Alvarenga: assistente social\, conselheira do CRESS/PB (gestão 2020-2023)\, coordenadora da Comissão de Seguridade Social. \nPalestrantes:\n– Aline Cristina Vieira da Cunha: assistente social\, conselheira do CRESS/PB (gestão 2020-2023) e coordenadora da COFI.\n– Priscilla Cordeiro Cruz de Barros: conselheira do CFESS (gestão 2020-2023)\, membro das Comissões de Seguridade Social e da COFI.\n– Wigne Nadjare: advogado\, assessor jurídico do CRESS/PB\, membro da Comissão de Combate ao Racismo e Discriminação Racial da OAB/PB. \n🎦 A transmissão será feita ao vivo\, em nosso canal do YouTube.
URL:https://cresspb.org.br/evento/web-palestra-demandas-judiciais-aos-as-assistentes-sociais-do-suas-reflexoes-e-encaminhamentos/
LOCATION:Canal do CRESS no YouTube
CATEGORIES:Eventos CRESS/PB
END:VEVENT
BEGIN:VEVENT
DTSTART;TZID=America/Recife:20210324T190000
DTEND;TZID=America/Recife:20210324T190000
DTSTAMP:20260425T123525
CREATED:20210322T162841Z
LAST-MODIFIED:20210322T163415Z
UID:10853-1616612400-1616612400@cresspb.org.br
SUMMARY:Web palestra: "Precarização do trabalho das mulheres no contexto da pandemia"
DESCRIPTION:No próximo dia 24 de março (quarta-feira)\, às 19h\, o CRESS-PB\, por meio da Comissão de Ética e Direitos Humanos\, irá realizar a live “Precarização do trabalho das mulheres no contexto da pandemia”. \n \n  \nSabemos que desigualdade social é estruturada pelas dimensões de classe\, de raça e de sexo (incluindo sexualidade). Dessa forma\, a sociabilidade capitalista com as particularidades da nossa formação social brasileira historicamente impossibilitou o acesso aos direitos aos sujeitos que não se enquadram no padrão legitimado socialmente: homens brancos e ricos. As mulheres negras e pobres\, especialmente\, continuam privadas de acesso aos serviços públicos\, são violentadas nos espaços públicos e privados e vivenciam a superexploração de sua força de trabalho\, desempenhando os trabalhos mais precarizados na sociedade. Essa realidade de desigualdade\, especialmente no trabalho desempenhado pelas mulheres\, é aprofundada no contexto da pandemia da Covid-19. \n  \n✊🏻✊🏽✊🏿 A ação visa reforçar o compromisso do CRESS/PB e do Serviço Social no combate às explorações e às opressões de raça e de gênero. \n  \nMediadora: \n– Bruna Havilla – Assistente Social e Integrante da Comissão de Ética e Direitos Humanos do CRESS/PB. \n  \nPalestrantes: \n– Emanuelle Galdino – Assistente Social e Integrante da Comissão de Ética e Direitos Humanos do CRESS/PB. \n– Janaiky Almeida – Assistente Social e Professora Doutora do curso de Serviço Social da UFRN. Integrante da Articulação de Mulheres Brasileiras (AMB). Coordenação do Grupo Temático de Pesquisa (GTP) da ABEPSS “Serviço Social\, Relações de Exploração/Opressão de Gênero\, Raça/Etnia\, Feminismos e Sexualidades”. \n  \n🎦 Transmissão ao vivo no canal do YouTube CRESS Paraíba.
URL:https://cresspb.org.br/evento/web-palestra-precarizacao-do-trabalho-das-mulheres-no-contexto-da-pandemia/
LOCATION:Canal do CRESS no YouTube
CATEGORIES:Eventos CRESS/PB
END:VEVENT
END:VCALENDAR