BEGIN:VCALENDAR
VERSION:2.0
PRODID:-//CRESS Paraíba - ECPv6.0.5//NONSGML v1.0//EN
CALSCALE:GREGORIAN
METHOD:PUBLISH
X-WR-CALNAME:CRESS Paraíba
X-ORIGINAL-URL:https://cresspb.org.br
X-WR-CALDESC:Events for CRESS Paraíba
REFRESH-INTERVAL;VALUE=DURATION:PT1H
X-Robots-Tag:noindex
X-PUBLISHED-TTL:PT1H
BEGIN:VTIMEZONE
TZID:America/Recife
BEGIN:STANDARD
TZOFFSETFROM:-0300
TZOFFSETTO:-0300
TZNAME:-03
DTSTART:20220101T000000
END:STANDARD
END:VTIMEZONE
BEGIN:VEVENT
DTSTART;TZID=America/Recife:20220929T190000
DTEND;TZID=America/Recife:20220929T220000
DTSTAMP:20260424T044554
CREATED:20220921T211041Z
LAST-MODIFIED:20220921T224929Z
UID:11842-1664478000-1664488800@cresspb.org.br
SUMMARY:Live-A Instrumentalidade no Exercício Profissional do Serviço Social
DESCRIPTION:
URL:https://cresspb.org.br/evento/11842/
LOCATION:Canal do CRESS no YouTube
END:VEVENT
END:VCALENDAR